BEGIN:VCALENDAR
VERSION:2.0
PRODID:-//Stormwater Certification | The Stormwater Training Center - ECPv6.15.15//NONSGML v1.0//EN
CALSCALE:GREGORIAN
METHOD:PUBLISH
X-WR-CALNAME:Stormwater Certification | The Stormwater Training Center
X-ORIGINAL-URL:https://thestormwatertrainingcenter.com
X-WR-CALDESC:Events for Stormwater Certification | The Stormwater Training Center
REFRESH-INTERVAL;VALUE=DURATION:PT1H
X-Robots-Tag:noindex
X-PUBLISHED-TTL:PT1H
BEGIN:VTIMEZONE
TZID:America/New_York
BEGIN:DAYLIGHT
TZOFFSETFROM:-0500
TZOFFSETTO:-0400
TZNAME:EDT
DTSTART:20250309T070000
END:DAYLIGHT
BEGIN:STANDARD
TZOFFSETFROM:-0400
TZOFFSETTO:-0500
TZNAME:EST
DTSTART:20251102T060000
END:STANDARD
BEGIN:DAYLIGHT
TZOFFSETFROM:-0500
TZOFFSETTO:-0400
TZNAME:EDT
DTSTART:20260308T070000
END:DAYLIGHT
BEGIN:STANDARD
TZOFFSETFROM:-0400
TZOFFSETTO:-0500
TZNAME:EST
DTSTART:20261101T060000
END:STANDARD
BEGIN:DAYLIGHT
TZOFFSETFROM:-0500
TZOFFSETTO:-0400
TZNAME:EDT
DTSTART:20270314T070000
END:DAYLIGHT
BEGIN:STANDARD
TZOFFSETFROM:-0400
TZOFFSETTO:-0500
TZNAME:EST
DTSTART:20271107T060000
END:STANDARD
END:VTIMEZONE
BEGIN:VEVENT
DTSTART;TZID=America/New_York:20260606T070000
DTEND;TZID=America/New_York:20260606T183000
DTSTAMP:20260422T062546
CREATED:20260125T190434Z
LAST-MODIFIED:20260125T190434Z
UID:10717-1780729200-1780770600@thestormwatertrainingcenter.com
SUMMARY:Florida Stormwater Inspector Training and Certification Course - SATURDAY\, June 6\, 2026
DESCRIPTION:
URL:https://thestormwatertrainingcenter.com/event/florida-stormwater-inspector-training-and-certification-course-saturday-june-6-2026/
CATEGORIES:Florida
ORGANIZER;CN="Laurie Murphy":MAILTO:Laurie@TheStormwaterTrainingCenter.com
LOCATION:https://thestormwatertrainingcenter.com/event/florida-stormwater-inspector-training-and-certification-course-saturday-june-6-2026/
END:VEVENT
BEGIN:VEVENT
DTSTART;TZID=America/New_York:20260606T070000
DTEND;TZID=America/New_York:20260606T190000
DTSTAMP:20260422T062546
CREATED:20260128T124403Z
LAST-MODIFIED:20260128T124403Z
UID:10762-1780729200-1780772400@thestormwatertrainingcenter.com
SUMMARY:Florida Stormwater Inspector Training and Certification Course - SATURDAY\, June 6\, 2026 (Note: if you are registering 2 or more people for this course\, the $50.00 per person discount will be applied at the final checkout)
DESCRIPTION:
URL:https://thestormwatertrainingcenter.com/event/florida-stormwater-inspector-training-and-certification-course-saturday-june-6-2026-note-if-you-are-registering-2-or-more-people-for-this-course-the-50-00-per-person-discount-will-be-applied-a/
CATEGORIES:Florida
ORGANIZER;CN="Laurie Murphy":MAILTO:Laurie@TheStormwaterTrainingCenter.com
LOCATION:https://thestormwatertrainingcenter.com/event/florida-stormwater-inspector-training-and-certification-course-saturday-june-6-2026-note-if-you-are-registering-2-or-more-people-for-this-course-the-50-00-per-person-discount-will-be-applied-a/
END:VEVENT
END:VCALENDAR