BEGIN:VCALENDAR
VERSION:2.0
PRODID:-//Stormwater Certification | The Stormwater Training Center - ECPv6.15.15//NONSGML v1.0//EN
CALSCALE:GREGORIAN
METHOD:PUBLISH
X-ORIGINAL-URL:https://thestormwatertrainingcenter.com
X-WR-CALDESC:Events for Stormwater Certification | The Stormwater Training Center
REFRESH-INTERVAL;VALUE=DURATION:PT1H
X-Robots-Tag:noindex
X-PUBLISHED-TTL:PT1H
BEGIN:VTIMEZONE
TZID:America/New_York
BEGIN:DAYLIGHT
TZOFFSETFROM:-0500
TZOFFSETTO:-0400
TZNAME:EDT
DTSTART:20250309T070000
END:DAYLIGHT
BEGIN:STANDARD
TZOFFSETFROM:-0400
TZOFFSETTO:-0500
TZNAME:EST
DTSTART:20251102T060000
END:STANDARD
BEGIN:DAYLIGHT
TZOFFSETFROM:-0500
TZOFFSETTO:-0400
TZNAME:EDT
DTSTART:20260308T070000
END:DAYLIGHT
BEGIN:STANDARD
TZOFFSETFROM:-0400
TZOFFSETTO:-0500
TZNAME:EST
DTSTART:20261101T060000
END:STANDARD
BEGIN:DAYLIGHT
TZOFFSETFROM:-0500
TZOFFSETTO:-0400
TZNAME:EDT
DTSTART:20270314T070000
END:DAYLIGHT
BEGIN:STANDARD
TZOFFSETFROM:-0400
TZOFFSETTO:-0500
TZNAME:EST
DTSTART:20271107T060000
END:STANDARD
END:VTIMEZONE
BEGIN:VEVENT
DTSTART;TZID=America/New_York:20260723T083000
DTEND;TZID=America/New_York:20260724T163000
DTSTAMP:20260422T075104
CREATED:20260301T202234Z
LAST-MODIFIED:20260301T202234Z
UID:11079-1784795400-1784910600@thestormwatertrainingcenter.com
SUMMARY:Florida Stormwater Inspector Training and Certification Course - July 23 & 24 (Note: if you are registering 2 or more people for this course\, the $50.00 per person discount will be applied at the final checkout)
DESCRIPTION:
URL:https://thestormwatertrainingcenter.com/event/florida-stormwater-inspector-training-and-certification-course-july-23-24-note-if-you-are-registering-2-or-more-people-for-this-course-the-50-00-per-person-discount-will-be-applied-at-the-fina/
CATEGORIES:Florida
ORGANIZER;CN="Laurie Murphy":MAILTO:Laurie@TheStormwaterTrainingCenter.com
END:VEVENT
BEGIN:VEVENT
DTSTART;TZID=America/New_York:20260723T083000
DTEND;TZID=America/New_York:20260724T163000
DTSTAMP:20260422T075104
CREATED:20260305T174320Z
LAST-MODIFIED:20260305T174336Z
UID:11133-1784795400-1784910600@thestormwatertrainingcenter.com
SUMMARY:Florida Stormwater Inspector Training and Certification Course - July 23 - 24\, 2026 (note: if you are registering 2 or more people for this course\, the $50.00 per person discount will be applied at the final checkout)
DESCRIPTION:
URL:https://thestormwatertrainingcenter.com/event/florida-stormwater-inspector-training-and-certification-course-july-23-24-2026-note-if-you-are-registering-2-or-more-people-for-this-course-the-50-00-per-person-discount-will-be-applied-at-th/
CATEGORIES:Florida
ORGANIZER;CN="Laurie Murphy":MAILTO:Laurie@TheStormwaterTrainingCenter.com
END:VEVENT
END:VCALENDAR