BEGIN:VCALENDAR
VERSION:2.0
PRODID:-//Stormwater Certification | The Stormwater Training Center - ECPv6.15.15//NONSGML v1.0//EN
CALSCALE:GREGORIAN
METHOD:PUBLISH
X-WR-CALNAME:Stormwater Certification | The Stormwater Training Center
X-ORIGINAL-URL:https://thestormwatertrainingcenter.com
X-WR-CALDESC:Events for Stormwater Certification | The Stormwater Training Center
REFRESH-INTERVAL;VALUE=DURATION:PT1H
X-Robots-Tag:noindex
X-PUBLISHED-TTL:PT1H
BEGIN:VTIMEZONE
TZID:America/Chicago
BEGIN:DAYLIGHT
TZOFFSETFROM:-0600
TZOFFSETTO:-0500
TZNAME:CDT
DTSTART:20250309T080000
END:DAYLIGHT
BEGIN:STANDARD
TZOFFSETFROM:-0500
TZOFFSETTO:-0600
TZNAME:CST
DTSTART:20251102T070000
END:STANDARD
BEGIN:DAYLIGHT
TZOFFSETFROM:-0600
TZOFFSETTO:-0500
TZNAME:CDT
DTSTART:20260308T080000
END:DAYLIGHT
BEGIN:STANDARD
TZOFFSETFROM:-0500
TZOFFSETTO:-0600
TZNAME:CST
DTSTART:20261101T070000
END:STANDARD
BEGIN:DAYLIGHT
TZOFFSETFROM:-0600
TZOFFSETTO:-0500
TZNAME:CDT
DTSTART:20270314T080000
END:DAYLIGHT
BEGIN:STANDARD
TZOFFSETFROM:-0500
TZOFFSETTO:-0600
TZNAME:CST
DTSTART:20271107T070000
END:STANDARD
END:VTIMEZONE
BEGIN:VEVENT
DTSTART;TZID=America/Chicago:20260721T100000
DTEND;TZID=America/Chicago:20260721T180000
DTSTAMP:20260422T051223
CREATED:20260305T202019Z
LAST-MODIFIED:20260305T202028Z
UID:11145-1784628000-1784656800@thestormwatertrainingcenter.com
SUMMARY:Level II - Industrial Stormwater Pollution Prevention Plan Development Course - July 21\, 2026 - (Note: if you are registering 2 or more people for this course\, the $50.00 per person discount will be applied at the final checkout)
DESCRIPTION:
URL:https://thestormwatertrainingcenter.com/event/level-ii-industrial-stormwater-pollution-prevention-plan-development-course-july-21-2026-note-if-you-are-registering-2-or-more-people-for-this-course-the-50-00-per-person-discount-will-be-a/
CATEGORIES:Industrial
END:VEVENT
END:VCALENDAR