BEGIN:VCALENDAR
VERSION:2.0
PRODID:-//Stormwater Certification | The Stormwater Training Center - ECPv6.15.15//NONSGML v1.0//EN
CALSCALE:GREGORIAN
METHOD:PUBLISH
X-ORIGINAL-URL:https://thestormwatertrainingcenter.com
X-WR-CALDESC:Events for Stormwater Certification | The Stormwater Training Center
REFRESH-INTERVAL;VALUE=DURATION:PT1H
X-Robots-Tag:noindex
X-PUBLISHED-TTL:PT1H
BEGIN:VTIMEZONE
TZID:America/Chicago
BEGIN:DAYLIGHT
TZOFFSETFROM:-0600
TZOFFSETTO:-0500
TZNAME:CDT
DTSTART:20250309T080000
END:DAYLIGHT
BEGIN:STANDARD
TZOFFSETFROM:-0500
TZOFFSETTO:-0600
TZNAME:CST
DTSTART:20251102T070000
END:STANDARD
BEGIN:DAYLIGHT
TZOFFSETFROM:-0600
TZOFFSETTO:-0500
TZNAME:CDT
DTSTART:20260308T080000
END:DAYLIGHT
BEGIN:STANDARD
TZOFFSETFROM:-0500
TZOFFSETTO:-0600
TZNAME:CST
DTSTART:20261101T070000
END:STANDARD
BEGIN:DAYLIGHT
TZOFFSETFROM:-0600
TZOFFSETTO:-0500
TZNAME:CDT
DTSTART:20270314T080000
END:DAYLIGHT
BEGIN:STANDARD
TZOFFSETFROM:-0500
TZOFFSETTO:-0600
TZNAME:CST
DTSTART:20271107T070000
END:STANDARD
END:VTIMEZONE
BEGIN:VEVENT
DTSTART;TZID=America/Chicago:20260427T100000
DTEND;TZID=America/Chicago:20260427T140000
DTSTAMP:20260422T015947
CREATED:20251119T172315Z
LAST-MODIFIED:20251119T172328Z
UID:10417-1777284000-1777298400@thestormwatertrainingcenter.com
SUMMARY:Official GREEN Stormwater Infrastructure Inspector Certification Course - April 27\, 2026
DESCRIPTION:
URL:https://thestormwatertrainingcenter.com/event/official-green-stormwater-infrastructure-inspector-certification-course-april-27-2026/
CATEGORIES:Municipal
LOCATION:https://thestormwatertrainingcenter.com/event/official-green-stormwater-infrastructure-inspector-certification-course-april-27-2026/
END:VEVENT
END:VCALENDAR