BEGIN:VCALENDAR
VERSION:2.0
PRODID:-//Stormwater Certification | The Stormwater Training Center - ECPv6.15.15//NONSGML v1.0//EN
CALSCALE:GREGORIAN
METHOD:PUBLISH
X-WR-CALNAME:Stormwater Certification | The Stormwater Training Center
X-ORIGINAL-URL:https://thestormwatertrainingcenter.com
X-WR-CALDESC:Events for Stormwater Certification | The Stormwater Training Center
REFRESH-INTERVAL;VALUE=DURATION:PT1H
X-Robots-Tag:noindex
X-PUBLISHED-TTL:PT1H
BEGIN:VTIMEZONE
TZID:America/Chicago
BEGIN:DAYLIGHT
TZOFFSETFROM:-0600
TZOFFSETTO:-0500
TZNAME:CDT
DTSTART:20250309T080000
END:DAYLIGHT
BEGIN:STANDARD
TZOFFSETFROM:-0500
TZOFFSETTO:-0600
TZNAME:CST
DTSTART:20251102T070000
END:STANDARD
BEGIN:DAYLIGHT
TZOFFSETFROM:-0600
TZOFFSETTO:-0500
TZNAME:CDT
DTSTART:20260308T080000
END:DAYLIGHT
BEGIN:STANDARD
TZOFFSETFROM:-0500
TZOFFSETTO:-0600
TZNAME:CST
DTSTART:20261101T070000
END:STANDARD
BEGIN:DAYLIGHT
TZOFFSETFROM:-0600
TZOFFSETTO:-0500
TZNAME:CDT
DTSTART:20270314T080000
END:DAYLIGHT
BEGIN:STANDARD
TZOFFSETFROM:-0500
TZOFFSETTO:-0600
TZNAME:CST
DTSTART:20271107T070000
END:STANDARD
END:VTIMEZONE
BEGIN:VTIMEZONE
TZID:America/New_York
BEGIN:DAYLIGHT
TZOFFSETFROM:-0500
TZOFFSETTO:-0400
TZNAME:EDT
DTSTART:20250309T070000
END:DAYLIGHT
BEGIN:STANDARD
TZOFFSETFROM:-0400
TZOFFSETTO:-0500
TZNAME:EST
DTSTART:20251102T060000
END:STANDARD
BEGIN:DAYLIGHT
TZOFFSETFROM:-0500
TZOFFSETTO:-0400
TZNAME:EDT
DTSTART:20260308T070000
END:DAYLIGHT
BEGIN:STANDARD
TZOFFSETFROM:-0400
TZOFFSETTO:-0500
TZNAME:EST
DTSTART:20261101T060000
END:STANDARD
BEGIN:DAYLIGHT
TZOFFSETFROM:-0500
TZOFFSETTO:-0400
TZNAME:EDT
DTSTART:20270314T070000
END:DAYLIGHT
BEGIN:STANDARD
TZOFFSETFROM:-0400
TZOFFSETTO:-0500
TZNAME:EST
DTSTART:20271107T060000
END:STANDARD
END:VTIMEZONE
BEGIN:VEVENT
DTSTART;TZID=America/Chicago:20260701T100000
DTEND;TZID=America/Chicago:20260701T180000
DTSTAMP:20260422T062656
CREATED:20260305T210756Z
LAST-MODIFIED:20260305T210756Z
UID:11157-1782900000-1782928800@thestormwatertrainingcenter.com
SUMMARY:Level I - Municipal Stormwater Inspector Certification Course - July 1\, 2026 (Note: if you are registering 2 or more people for this course\, the $50.00 per person discount will be applied at the final checkout)
DESCRIPTION:
URL:https://thestormwatertrainingcenter.com/event/level-i-municipal-stormwater-inspector-certification-course-july-1-2026-note-if-you-are-registering-2-or-more-people-for-this-course-the-50-00-per-person-discount-will-be-applied-at-the-final/
CATEGORIES:Municipal
END:VEVENT
BEGIN:VEVENT
DTSTART;TZID=America/Chicago:20260707T090000
DTEND;TZID=America/Chicago:20260707T170000
DTSTAMP:20260422T062656
CREATED:20260216T212339Z
LAST-MODIFIED:20260216T214214Z
UID:11007-1783414800-1783443600@thestormwatertrainingcenter.com
SUMMARY:Level I - Construction Stormwater Inspector Certification Course - July 7\, 2026. (Note: if you are registering 2 or more people for this course\, the $50.00 per person discount will be applied at the final checkout)
DESCRIPTION:
URL:https://thestormwatertrainingcenter.com/event/level-i-construction-stormwater-inspector-certification-course-july-7-2026-note-if-you-are-registering-2-or-more-people-for-this-course-the-50-00-per-person-discount-will-be-applied-at-the-f/
CATEGORIES:Construction
LOCATION:https://thestormwatertrainingcenter.com/event/level-i-construction-stormwater-inspector-certification-course-july-7-2026-note-if-you-are-registering-2-or-more-people-for-this-course-the-50-00-per-person-discount-will-be-applied-at-the-f/
END:VEVENT
BEGIN:VEVENT
DTSTART;TZID=America/New_York:20260709T083000
DTEND;TZID=America/New_York:20260710T163000
DTSTAMP:20260422T062656
CREATED:20260301T200942Z
LAST-MODIFIED:20260301T200951Z
UID:11075-1783585800-1783701000@thestormwatertrainingcenter.com
SUMMARY:Florida Stormwater Inspector Training and Certification Course - July 9 & 10\, 2026 (Note if you are registering 2 or more people for this course\, the $50.00 per person discount will be applied at the final checkout)
DESCRIPTION:
URL:https://thestormwatertrainingcenter.com/event/florida-stormwater-inspector-training-and-certification-course-july-9-10-2026-note-if-you-are-registering-2-or-more-people-for-this-course-the-50-00-per-person-discount-will-be-applied-at-the/
CATEGORIES:Florida
ORGANIZER;CN="Laurie Murphy":MAILTO:Laurie@TheStormwaterTrainingCenter.com
END:VEVENT
BEGIN:VEVENT
DTSTART;TZID=America/Chicago:20260721T100000
DTEND;TZID=America/Chicago:20260721T180000
DTSTAMP:20260422T062656
CREATED:20260305T202019Z
LAST-MODIFIED:20260305T202028Z
UID:11145-1784628000-1784656800@thestormwatertrainingcenter.com
SUMMARY:Level II - Industrial Stormwater Pollution Prevention Plan Development Course - July 21\, 2026 - (Note: if you are registering 2 or more people for this course\, the $50.00 per person discount will be applied at the final checkout)
DESCRIPTION:
URL:https://thestormwatertrainingcenter.com/event/level-ii-industrial-stormwater-pollution-prevention-plan-development-course-july-21-2026-note-if-you-are-registering-2-or-more-people-for-this-course-the-50-00-per-person-discount-will-be-a/
CATEGORIES:Industrial
END:VEVENT
BEGIN:VEVENT
DTSTART;TZID=America/New_York:20260723T083000
DTEND;TZID=America/New_York:20260724T163000
DTSTAMP:20260422T062656
CREATED:20260301T202234Z
LAST-MODIFIED:20260301T202234Z
UID:11079-1784795400-1784910600@thestormwatertrainingcenter.com
SUMMARY:Florida Stormwater Inspector Training and Certification Course - July 23 & 24 (Note: if you are registering 2 or more people for this course\, the $50.00 per person discount will be applied at the final checkout)
DESCRIPTION:
URL:https://thestormwatertrainingcenter.com/event/florida-stormwater-inspector-training-and-certification-course-july-23-24-note-if-you-are-registering-2-or-more-people-for-this-course-the-50-00-per-person-discount-will-be-applied-at-the-fina/
CATEGORIES:Florida
ORGANIZER;CN="Laurie Murphy":MAILTO:Laurie@TheStormwaterTrainingCenter.com
END:VEVENT
BEGIN:VEVENT
DTSTART;TZID=America/New_York:20260723T083000
DTEND;TZID=America/New_York:20260724T163000
DTSTAMP:20260422T062656
CREATED:20260305T174320Z
LAST-MODIFIED:20260305T174336Z
UID:11133-1784795400-1784910600@thestormwatertrainingcenter.com
SUMMARY:Florida Stormwater Inspector Training and Certification Course - July 23 - 24\, 2026 (note: if you are registering 2 or more people for this course\, the $50.00 per person discount will be applied at the final checkout)
DESCRIPTION:
URL:https://thestormwatertrainingcenter.com/event/florida-stormwater-inspector-training-and-certification-course-july-23-24-2026-note-if-you-are-registering-2-or-more-people-for-this-course-the-50-00-per-person-discount-will-be-applied-at-th/
CATEGORIES:Florida
ORGANIZER;CN="Laurie Murphy":MAILTO:Laurie@TheStormwaterTrainingCenter.com
END:VEVENT
BEGIN:VEVENT
DTSTART;TZID=America/Chicago:20260728T100000
DTEND;TZID=America/Chicago:20260728T180000
DTSTAMP:20260422T062656
CREATED:20260305T205012Z
LAST-MODIFIED:20260305T205231Z
UID:11153-1785232800-1785261600@thestormwatertrainingcenter.com
SUMMARY:Level II - Construction Stormwater Pollution Prevention Plan Development Course - July 28\, 2026 (Note: if you are registering 2 or more people for this course\, the $50.00 per person discount will be applied at the final checkout)
DESCRIPTION:
URL:https://thestormwatertrainingcenter.com/event/level-ii-construction-stormwater-pollution-prevention-plan-development-course-july-28-2026-note-if-you-are-registering-2-or-more-people-for-this-course-the-50-00-per-person-discount-will-be-a/
CATEGORIES:Construction
END:VEVENT
END:VCALENDAR